BEGIN:VCALENDAR
VERSION:2.0
PRODID:spatie/icalendar-generator
DESCRIPTION:Events from Gyanodaya Sarva Mangal Vidya Mandir
X-WR-CALDESC:Events from Gyanodaya Sarva Mangal Vidya Mandir
REFRESH-INTERVAL;VALUE=DURATION:PT1440M
X-PUBLISHED-TTL:PT1440M
BEGIN:VTIMEZONE
TZID:Etc/GMT+0
BEGIN:STANDARD
DTSTART:20230703T081500Z
TZOFFSETFROM:+0000
TZOFFSETTO:+0000
END:STANDARD
END:VTIMEZONE
BEGIN:VTIMEZONE
TZID:UTC
BEGIN:STANDARD
DTSTART:20250724T082219Z
TZOFFSETFROM:+0000
TZOFFSETTO:+0000
END:STANDARD
END:VTIMEZONE
BEGIN:VEVENT
UID:152-147
DTSTAMP:20260420T082219Z
SUMMARY:ASSEMBLY
LOCATION:
ORGANIZER;CN=manager:MAILTO:info@gyanodayakhurai.org
DTSTART;TZID=Etc/GMT+0:20240329T081500
DTEND;TZID=Etc/GMT+0:20240329T085500
X-ALT-DESC;FMTTYPE=TEXT/HTML:ASSEMBLY - Good Friday: Honouring Sacrifice\, 
 Embracing Grace. CLASS - IX - A SENIOR INCHARGE - MS. NAVANI SHRIVASTAV
CATEGORIES:General
URL;VALUE=URI:https://gyanodayakhurai.org/mc-events/assembly-30/
METHOD:PUBLISH
END:VEVENT
END:VCALENDAR