BEGIN:VCALENDAR
VERSION:2.0
PRODID:spatie/icalendar-generator
DESCRIPTION:Events from Gyanodaya Sarva Mangal Vidya Mandir
X-WR-CALDESC:Events from Gyanodaya Sarva Mangal Vidya Mandir
REFRESH-INTERVAL;VALUE=DURATION:PT1440M
X-PUBLISHED-TTL:PT1440M
BEGIN:VTIMEZONE
TZID:Etc/GMT+0
BEGIN:STANDARD
DTSTART:20220523T000000Z
TZOFFSETFROM:+0000
TZOFFSETTO:+0000
END:STANDARD
END:VTIMEZONE
BEGIN:VTIMEZONE
TZID:UTC
BEGIN:STANDARD
DTSTART:20250724T083947Z
TZOFFSETFROM:+0000
TZOFFSETTO:+0000
END:STANDARD
END:VTIMEZONE
BEGIN:VEVENT
UID:8-5
DTSTAMP:20260420T083947Z
SUMMARY:PRE-PRI: Birthday Celebration
LOCATION:
ORGANIZER;CN=manager:MAILTO:info@gyanodayakhurai.org
DTSTART;TZID=Etc/GMT+0:20230217T000000
DTEND;TZID=Etc/GMT+0:20230217T010000
X-ALT-DESC;FMTTYPE=TEXT/HTML:CLASSES - NUR - UKG IN CHARGE - Mrs. CHITRA &amp;a
 mp\; HUMA VENUE - PRE-PRI WING
CATEGORIES:General
URL;VALUE=URI:https://gyanodayakhurai.org/mc-events/pre-pri-birthday-celebr
 ation/
METHOD:PUBLISH
END:VEVENT
END:VCALENDAR